BEGIN:VCALENDAR
VERSION:2.0
PRODID:-//Prairie Palmetto Precision - ECPv6.15.20//NONSGML v1.0//EN
CALSCALE:GREGORIAN
METHOD:PUBLISH
X-ORIGINAL-URL:https://prairiepalmetto.com
X-WR-CALDESC:Events for Prairie Palmetto Precision
REFRESH-INTERVAL;VALUE=DURATION:PT1H
X-Robots-Tag:noindex
X-PUBLISHED-TTL:PT1H
BEGIN:VTIMEZONE
TZID:America/Chicago
BEGIN:DAYLIGHT
TZOFFSETFROM:-0600
TZOFFSETTO:-0500
TZNAME:CDT
DTSTART:20240310T080000
END:DAYLIGHT
BEGIN:STANDARD
TZOFFSETFROM:-0500
TZOFFSETTO:-0600
TZNAME:CST
DTSTART:20241103T070000
END:STANDARD
BEGIN:DAYLIGHT
TZOFFSETFROM:-0600
TZOFFSETTO:-0500
TZNAME:CDT
DTSTART:20250309T080000
END:DAYLIGHT
BEGIN:STANDARD
TZOFFSETFROM:-0500
TZOFFSETTO:-0600
TZNAME:CST
DTSTART:20251102T070000
END:STANDARD
BEGIN:DAYLIGHT
TZOFFSETFROM:-0600
TZOFFSETTO:-0500
TZNAME:CDT
DTSTART:20260308T080000
END:DAYLIGHT
BEGIN:STANDARD
TZOFFSETFROM:-0500
TZOFFSETTO:-0600
TZNAME:CST
DTSTART:20261101T070000
END:STANDARD
END:VTIMEZONE
BEGIN:VEVENT
DTSTART;TZID=America/Chicago:20251101T080000
DTEND;TZID=America/Chicago:20251101T110000
DTSTAMP:20260423T185531
CREATED:20251019T115506Z
LAST-MODIFIED:20251019T115506Z
UID:944-1761984000-1761994800@prairiepalmetto.com
SUMMARY:Legal Framework for Non-Permit Holders
DESCRIPTION:This class provides a three-hour classroom session\, reviewing the legal framework taken from the SDA Handgun Permit Education and adapted for those who simply wish to “Constitutional Carry”. The course does offer the opportunity to continue same day to complete the education required for the OK SDA Handgun Permit Application. No certificate is awarded for the three-hour only class. This class is available as a three-hour classroom or student elected all-day course\, including live-fire\,
URL:https://prairiepalmetto.com/event/legal-framework-for-non-permit-holders/
LOCATION:Prairie Palmetto Precision Off-site // Church of the Nazarene\, 1118 W Broadway St\, Collinsville\, OK\, 74021\, United States
CATEGORIES:Firearms Training,SDA Courses
ORGANIZER;CN="Prairie Palmetto Precision":MAILTO:rob@prairiepalmetto.com
END:VEVENT
BEGIN:VEVENT
DTSTART;TZID=America/Chicago:20251101T080000
DTEND;TZID=America/Chicago:20251101T170000
DTSTAMP:20260423T185531
CREATED:20251019T115310Z
LAST-MODIFIED:20251019T115310Z
UID:942-1761984000-1762016400@prairiepalmetto.com
SUMMARY:Oklahoma SDA Handgun Permit Education
DESCRIPTION:This course satisfies the OSBI education requirement to apply for your Oklahoma SDA Handgun Permit. Providing a review of the legal framework guiding lawful carry\, basic safety\, and shooting fundamentals. This class does NOT instruct an individual on how to shoot. Each participant should be familiar with and capable of operating their firearm. \nWe will reach out within 24 hours (typically sooner) to verify your registration \n\nCash is always welcome. Credit and debit cards accepted for balance plus 3.5%. Payable immediately before course begins.\nFirearm: Students encouraged to bring their own firearm. The firearm may be a semi-automatic or revolver\, .45 caliber or less\, with .22LR suggested. Pistols (22LR) with ammunition will be available for rent.\nAmmunition: Students should bring 200 rounds of factory ammunition\, or at least 100 rounds. Reloads\, commercial or home-made\, are not permitted.\nEye and hearing protection: Students should bring eye and hearing protection\, with electronic hearing protection recommended.\nClothing: Students should wear appropriate range attire\, which does not include open-toed shoes or low-cut clothing.\nOther items: Students should bring pencil and note pad.\nInstructor will provide snacks and water\, but not a meal. Restaurants are available nearby.\n\nTo successfully complete course: \n\nAttend entire course. Participation encouraged.\nScore 70% on the course test\nPass the live-fire qualification\nNo refunds are provided\n\nPlease call\, email\, or visit our website at www.prairiepalmetto.com\, for questions
URL:https://prairiepalmetto.com/event/oklahoma-sda-handgun-permit-education-10/
LOCATION:Prairie Palmetto Precision Off-site // Church of the Nazarene\, 1118 W Broadway St\, Collinsville\, OK\, 74021\, United States
CATEGORIES:Firearms Training,SDA Courses
ORGANIZER;CN="Prairie Palmetto Precision":MAILTO:rob@prairiepalmetto.com
END:VEVENT
BEGIN:VEVENT
DTSTART;TZID=America/Chicago:20251108T080000
DTEND;TZID=America/Chicago:20251108T173000
DTSTAMP:20260423T185531
CREATED:20251019T115731Z
LAST-MODIFIED:20251019T115731Z
UID:946-1762588800-1762623000@prairiepalmetto.com
SUMMARY:NRA Basic Range Safety Officer Certification Course
DESCRIPTION:This course is NRA certified to develop NRA Certified Range Safety Officers who possess the knowledge\, skills\, and attitude essential to organizing\, conducting\, and supervising safe shooting activities and range operations. \nAn outstanding course to advance your recreation time\, be positioned to support shooting events\, and further your qualifications if you are armed security… \nTHIS IS NON-SHOOTING COURSE…100 PERCENT CLASSROOM \nRegister at the event website link below \n\nCash is always welcome. Credit and debit cards accepted for balance plus 3.5%. Payable immediately before course begins.\nOther items: Students should bring pencil and note pad.\nInstructor will provide snacks and water\, but not a meal. Restaurants are available nearby.\nThis is NOT a live-fire course. No firearm is required.\n\nVisit us at www.prairiepalmetto.com or email us at rob@prairiepalmetto.com
URL:https://prairiepalmetto.com/event/nra-basic-range-safety-officer-certification-course-5/
LOCATION:Prairie Palmetto Precision Off-Site / Bit by Bit\, 14674 US-169\, Oologah\, OK\, 74053\, United States
CATEGORIES:Firearms Safety Training,Range Safety Officer (RSO)
ORGANIZER;CN="Prairie Palmetto Precision":MAILTO:rob@prairiepalmetto.com
END:VEVENT
BEGIN:VEVENT
DTSTART;TZID=America/Chicago:20251115T080000
DTEND;TZID=America/Chicago:20251115T170000
DTSTAMP:20260423T185532
CREATED:20251019T120038Z
LAST-MODIFIED:20251019T120038Z
UID:948-1763193600-1763226000@prairiepalmetto.com
SUMMARY:NRA Basic Pistol Shooting Course-Instructor Led Only
DESCRIPTION:This course is NRA certified and is intended for all individuals regardless of previous shooting experience or NRA-affiliation. This is an instructor-led course where you will receive direct instruction from an NRA-certified instructor from beginning to end.  \nRegister at the event website link below \n\nCash is always welcome. Credit and debit cards accepted for balance plus 3.5%. Payable immediately before course begins. Instructor will reach out within 72 hours of registration to facilitate deposit and answer questions. Deposit is non-refundable.\nFirearm: Students may bring their own firearm. The firearm may be a semi-automatic or revolver\, .45 caliber or less\, with .22LR suggested. Pistols (22LR) with ammunition will be available for rent.\nAmmunition: Students should bring 200 rounds of factory ammunition\, or at least 100 rounds. Reloads\, commercial or home-made\, are not permitted.\nEye and hearing protection: Students should bring eye and hearing protection\, with electronic hearing protection recommended.\nClothing: Students should wear appropriate range attire\, which does not include open-toed shoes or low-cut clothing.\nOther items: Students should bring pencil and note pad.\nInstructor will provide snacks and water\, but not a meal. Restaurants are available nearby.\n\nTo successfully complete course: \n\nAttend entire course. Participation encouraged.\nScore 90% on the course test\nPass the live-fire qualification\nNo refunds are provided\n\nPlease call\, email\, or visit our website at www.prairiepalmetto.com\, for questions
URL:https://prairiepalmetto.com/event/nra-basic-pistol-shooting-course-instructor-led-only/
LOCATION:Prairie Palmetto Precision Off-Site / Bit by Bit\, 14674 US-169\, Oologah\, OK\, 74053\, United States
CATEGORIES:Firearms Training,NRA Courses
ORGANIZER;CN="Prairie Palmetto Precision":MAILTO:rob@prairiepalmetto.com
END:VEVENT
BEGIN:VEVENT
DTSTART;TZID=America/Chicago:20251122T080000
DTEND;TZID=America/Chicago:20251122T110000
DTSTAMP:20260423T185532
CREATED:20251019T120509Z
LAST-MODIFIED:20251019T120509Z
UID:952-1763798400-1763809200@prairiepalmetto.com
SUMMARY:Legal Framework for Non-Permit Holders
DESCRIPTION:This class provides a three-hour classroom session\, reviewing the legal framework taken from the SDA Handgun Permit Education and adapted for those who simply wish to “Constitutional Carry”. The course does offer the opportunity to continue same day to complete the education required for the OK SDA Handgun Permit Application. No certificate is awarded for the three-hour only class. This class is available as a three-hour classroom or student elected all-day course\, including live-fire
URL:https://prairiepalmetto.com/event/legal-framework-for-non-permit-holders-2/
LOCATION:Prairie Palmetto Precision Off-site // Church of the Nazarene\, 1118 W Broadway St\, Collinsville\, OK\, 74021\, United States
CATEGORIES:Firearms Training,SDA Courses
ORGANIZER;CN="Prairie Palmetto Precision":MAILTO:rob@prairiepalmetto.com
END:VEVENT
BEGIN:VEVENT
DTSTART;TZID=America/Chicago:20251122T080000
DTEND;TZID=America/Chicago:20251122T170000
DTSTAMP:20260423T185532
CREATED:20251019T120319Z
LAST-MODIFIED:20251019T120319Z
UID:950-1763798400-1763830800@prairiepalmetto.com
SUMMARY:Oklahoma SDA Handgun Permit Education
DESCRIPTION:This course satisfies the OSBI education requirement to apply for your Oklahoma SDA Handgun Permit. Providing a review of the legal framework guiding lawful carry\, basic safety\, and shooting fundamentals. This class does NOT instruct an individual on how to shoot. Each participant should be familiar with and capable of operating their firearm. \nWe will reach out within 24 hours (typically sooner) to verify your registration \n  \n\nCash is always welcome. Credit and debit cards accepted for balance plus 3.5%. Payable immediately before course begins.\nFirearm: Students encouraged to bring their own firearm. The firearm may be a semi-automatic or revolver\, .45 caliber or less\, with .22LR suggested. Pistols (22LR) with ammunition will be available for rent.\nAmmunition: Students should bring 200 rounds of factory ammunition\, or at least 100 rounds. Reloads\, commercial or home-made\, are not permitted.\nEye and hearing protection: Students should bring eye and hearing protection\, with electronic hearing protection recommended.\nClothing: Students should wear appropriate range attire\, which does not include open-toed shoes or low-cut clothing.\nOther items: Students should bring pencil and note pad.\nInstructor will provide snacks and water\, but not a meal. Restaurants are available nearby.\n\nTo successfully complete course: \n\nAttend entire course. Participation encouraged.\nScore 70% on the course test\nPass the live-fire qualification\nNo refunds are provided\n\nPlease call\, email\, or visit our website at www.prairiepalmetto.com\, for questions
URL:https://prairiepalmetto.com/event/oklahoma-sda-handgun-permit-education-11/
LOCATION:Prairie Palmetto Precision Off-site // Church of the Nazarene\, 1118 W Broadway St\, Collinsville\, OK\, 74021\, United States
CATEGORIES:Firearms Training,SDA Courses
ORGANIZER;CN="Prairie Palmetto Precision":MAILTO:rob@prairiepalmetto.com
END:VEVENT
BEGIN:VEVENT
DTSTART;TZID=America/Chicago:20251129T080000
DTEND;TZID=America/Chicago:20251129T173000
DTSTAMP:20260423T185532
CREATED:20251019T120733Z
LAST-MODIFIED:20251019T120733Z
UID:954-1764403200-1764437400@prairiepalmetto.com
SUMMARY:NRA Basic Range Safety Officer Certification Course
DESCRIPTION:This course is NRA certified to develop NRA Certified Range Safety Officers who possess the knowledge\, skills\, and attitude essential to organizing\, conducting\, and supervising safe shooting activities and range operations. \nAn outstanding course to advance your recreation time\, be positioned to support shooting events\, and further your qualifications if you are armed security… \nTHIS IS NON-SHOOTING COURSE…100 PERCENT CLASSROOM \nRegister at the event website link below \n\nCash is always welcome. Credit and debit cards accepted for balance plus 3.5%. Payable immediately before course begins.\nOther items: Students should bring pencil and note pad.\nInstructor will provide snacks and water\, but not a meal. Restaurants are available nearby.\nThis is NOT a live-fire course. No firearm is required.\n\nVisit us at www.prairiepalmetto.com or email us at rob@prairiepalmetto.com
URL:https://prairiepalmetto.com/event/nra-basic-range-safety-officer-certification-course-6/
LOCATION:Prairie Palmetto Precision Off-Site / Bit by Bit\, 14674 US-169\, Oologah\, OK\, 74053\, United States
CATEGORIES:Firearms Safety Training,Range Safety Officer (RSO)
ORGANIZER;CN="Prairie Palmetto Precision":MAILTO:rob@prairiepalmetto.com
END:VEVENT
END:VCALENDAR