BEGIN:VCALENDAR
VERSION:2.0
PRODID:-//Prairie Palmetto Precision - ECPv6.15.20//NONSGML v1.0//EN
CALSCALE:GREGORIAN
METHOD:PUBLISH
X-WR-CALNAME:Prairie Palmetto Precision
X-ORIGINAL-URL:https://prairiepalmetto.com
X-WR-CALDESC:Events for Prairie Palmetto Precision
REFRESH-INTERVAL;VALUE=DURATION:PT1H
X-Robots-Tag:noindex
X-PUBLISHED-TTL:PT1H
BEGIN:VTIMEZONE
TZID:America/Chicago
BEGIN:DAYLIGHT
TZOFFSETFROM:-0600
TZOFFSETTO:-0500
TZNAME:CDT
DTSTART:20240310T080000
END:DAYLIGHT
BEGIN:STANDARD
TZOFFSETFROM:-0500
TZOFFSETTO:-0600
TZNAME:CST
DTSTART:20241103T070000
END:STANDARD
BEGIN:DAYLIGHT
TZOFFSETFROM:-0600
TZOFFSETTO:-0500
TZNAME:CDT
DTSTART:20250309T080000
END:DAYLIGHT
BEGIN:STANDARD
TZOFFSETFROM:-0500
TZOFFSETTO:-0600
TZNAME:CST
DTSTART:20251102T070000
END:STANDARD
BEGIN:DAYLIGHT
TZOFFSETFROM:-0600
TZOFFSETTO:-0500
TZNAME:CDT
DTSTART:20260308T080000
END:DAYLIGHT
BEGIN:STANDARD
TZOFFSETFROM:-0500
TZOFFSETTO:-0600
TZNAME:CST
DTSTART:20261101T070000
END:STANDARD
END:VTIMEZONE
BEGIN:VEVENT
DTSTART;TZID=America/Chicago:20250215T080000
DTEND;TZID=America/Chicago:20250215T170000
DTSTAMP:20260424T103646
CREATED:20250108T154501Z
LAST-MODIFIED:20250208T223718Z
UID:688-1739606400-1739638800@prairiepalmetto.com
SUMMARY:NRA Basic Range Safety Officer (RSO) Course
DESCRIPTION:Student comment: “This is safety viewed as an RSO. I didn’t realize how much more there is to consider\, even as a 20 year [shooter].\n\n\nThis course is NRA certified to develop NRA Certified Range Safety Officers who possess the knowledge\, skills\, and attitude essential to organizing\, conducting\, and supervising safe shooting activities and range operations.\n\n\nRegister at the event website link below \n\nCash is always welcome. Credit and debit cards accepted for balance plus 3.5%. Payable immediately before course begins.\nOther items: Students should bring pencil and note pad.\nInstructor will provide snacks and water\, but not a meal. Restaurants are available nearby.\nThis is NOT a live-fire course. No firearm is required.\n\nAn outstanding course to advance your recreation time\, be positioned to support shooting events\, and further your qualifications if you are armed security…
URL:https://prairiepalmetto.com/event/nra-basic-range-safety-officer-rso-course-2/
LOCATION:Prairie Palmetto Precision LLC Offices\, 2886 Crosscreek Dr\, Oologah\, OK\, 74053\, United States
CATEGORIES:Firearms Safety Training,Range Safety Officer (RSO)
ORGANIZER;CN="Prairie Palmetto Precision":MAILTO:rob@prairiepalmetto.com
END:VEVENT
BEGIN:VEVENT
DTSTART;TZID=America/Chicago:20250221T080000
DTEND;TZID=America/Chicago:20250221T160000
DTSTAMP:20260424T103646
CREATED:20250108T154906Z
LAST-MODIFIED:20250208T224831Z
UID:691-1740124800-1740153600@prairiepalmetto.com
SUMMARY:Oklahoma SDA Handgun Permit Education
DESCRIPTION:This course satisfies the educational requirements when applying for the Oklahoma Self-Defense Act (SDA) Handgun permit. \nRegister at the event website link below \n\nCash is always welcome. Credit and debit cards accepted for balance plus 3.5%. Payable immediately before course begins.\nFirearm: Students encouraged to bring their own firearm. The firearm may be a semi-automatic or revolver\, .45 caliber or less\, with .22LR suggested. Pistols (22LR) with ammunition will be available for rent.\nAmmunition: Students should bring 200 rounds of factory ammunition\, or at least 100 rounds. Reloads\, commercial or home-made\, are not permitted.\nEye and hearing protection: Students should bring eye and hearing protection\, with electronic hearing protection recommended.\nClothing: Students should wear appropriate range attire\, which does not include open-toed shoes or low-cut clothing.\nOther items: Students should bring pencil and note pad.\nInstructor will provide snacks and water\, but not a meal. Restaurants are available nearby.\n\nTo successfully complete course: \n\nAttend entire course. Participation encouraged.\nScore 70% on the course test\nPass the live-fire qualification\nNo refunds are provided\n\nPlease call\, email\, or visit our website at www.prairiepalmetto.com\, for questions
URL:https://prairiepalmetto.com/event/oklahoma-sda-handgun-permit-education-2/
LOCATION:Prairie Palmetto Precision LLC Offices\, 2886 Crosscreek Dr\, Oologah\, OK\, 74053\, United States
CATEGORIES:Firearms Training,SDA Courses
ORGANIZER;CN="Prairie Palmetto Precision":MAILTO:rob@prairiepalmetto.com
END:VEVENT
BEGIN:VEVENT
DTSTART;TZID=America/Chicago:20250226T080000
DTEND;TZID=America/Chicago:20250226T170000
DTSTAMP:20260424T103646
CREATED:20250108T155949Z
LAST-MODIFIED:20250219T144646Z
UID:698-1740556800-1740589200@prairiepalmetto.com
SUMMARY:NRA Basics of Pistol Shooting – Instructor Led Only
DESCRIPTION:This course is NRA certified and is intended for all individuals regardless of previous shooting experience or NRA-affiliation. This is an instructor-led course where you will receive direct instruction from an NRA-certified instructor from beginning to end.  \nRegister at the event website link below \n\nCash is always welcome. Credit and debit cards accepted for balance plus 3.5%. Payable immediately before course begins.\nFirearm: Students may bring their own firearm. The firearm may be a semi-automatic or revolver\, .45 caliber or less\, with .22LR suggested. Pistols (22LR) with ammunition will be available for rent.\nAmmunition: Students should bring 200 rounds of factory ammunition\, or at least 100 rounds. Reloads\, commercial or home-made\, are not permitted.\nEye and hearing protection: Students should bring eye and hearing protection\, with electronic hearing protection recommended.\nClothing: Students should wear appropriate range attire\, which does not include open-toed shoes or low-cut clothing.\nOther items: Students should bring pencil and note pad.\nInstructor will provide snacks and water\, but not a meal. Restaurants are available nearby.\n\nTo successfully complete course: \n\nAttend entire course. Participation encouraged.\nScore 90% on the course test\nPass the live-fire qualification\nNo refunds are provided\n\nPlease call\, email\, or visit our website at www.prairiepalmetto.com\, for questions
URL:https://prairiepalmetto.com/event/nra-basics-of-pistol-shooting-instructor-led-only-two-consecutive-evenings-course-2/
LOCATION:Prairie Palmetto Precision LLC Offices\, 2886 Crosscreek Dr\, Oologah\, OK\, 74053\, United States
CATEGORIES:Firearms Training,NRA Courses
ORGANIZER;CN="Prairie Palmetto Precision":MAILTO:rob@prairiepalmetto.com
END:VEVENT
BEGIN:VEVENT
DTSTART;TZID=America/Chicago:20250228T080000
DTEND;TZID=America/Chicago:20250228T170000
DTSTAMP:20260424T103646
CREATED:20250211T155706Z
LAST-MODIFIED:20250219T180636Z
UID:776-1740729600-1740762000@prairiepalmetto.com
SUMMARY:NRA Basic Range Safety Officer (RSO) Course
DESCRIPTION:Student comment: “This is safety viewed as an RSO. I didn’t realize how much more there is to consider\, even as a 20 year [shooter].\n\n\nThis course is NRA certified to develop NRA Certified Range Safety Officers who possess the knowledge\, skills\, and attitude essential to organizing\, conducting\, and supervising safe shooting activities and range operations.\n\n\nRegister at the event website link below \n\nCash is always welcome. Credit and debit cards accepted for balance plus 3.5%. Payable immediately before course begins.\nOther items: Students should bring pencil and note pad.\nInstructor will provide snacks and water\, but not a meal. Restaurants are available nearby.\nThis is NOT a live-fire course. No firearm is required.\n\nAn outstanding course to advance your recreation time\, be positioned to support shooting events\, and further your qualifications if you are armed security…
URL:https://prairiepalmetto.com/event/nra-basic-range-safety-officer-rso-course-4/
LOCATION:Prairie Palmetto Precision LLC Offices\, 2886 Crosscreek Dr\, Oologah\, OK\, 74053\, United States
CATEGORIES:Firearms Safety Training,Range Safety Officer (RSO)
ORGANIZER;CN="Prairie Palmetto Precision":MAILTO:rob@prairiepalmetto.com
END:VEVENT
END:VCALENDAR