BEGIN:VCALENDAR
VERSION:2.0
PRODID:-//Prairie Palmetto Precision - ECPv6.15.20//NONSGML v1.0//EN
CALSCALE:GREGORIAN
METHOD:PUBLISH
X-WR-CALNAME:Prairie Palmetto Precision
X-ORIGINAL-URL:https://prairiepalmetto.com
X-WR-CALDESC:Events for Prairie Palmetto Precision
REFRESH-INTERVAL;VALUE=DURATION:PT1H
X-Robots-Tag:noindex
X-PUBLISHED-TTL:PT1H
BEGIN:VTIMEZONE
TZID:America/Chicago
BEGIN:DAYLIGHT
TZOFFSETFROM:-0600
TZOFFSETTO:-0500
TZNAME:CDT
DTSTART:20250309T080000
END:DAYLIGHT
BEGIN:STANDARD
TZOFFSETFROM:-0500
TZOFFSETTO:-0600
TZNAME:CST
DTSTART:20251102T070000
END:STANDARD
BEGIN:DAYLIGHT
TZOFFSETFROM:-0600
TZOFFSETTO:-0500
TZNAME:CDT
DTSTART:20260308T080000
END:DAYLIGHT
BEGIN:STANDARD
TZOFFSETFROM:-0500
TZOFFSETTO:-0600
TZNAME:CST
DTSTART:20261101T070000
END:STANDARD
BEGIN:DAYLIGHT
TZOFFSETFROM:-0600
TZOFFSETTO:-0500
TZNAME:CDT
DTSTART:20270314T080000
END:DAYLIGHT
BEGIN:STANDARD
TZOFFSETFROM:-0500
TZOFFSETTO:-0600
TZNAME:CST
DTSTART:20271107T070000
END:STANDARD
END:VTIMEZONE
BEGIN:VEVENT
DTSTART;TZID=America/Chicago:20260425T080000
DTEND;TZID=America/Chicago:20260425T170000
DTSTAMP:20260423T171525
CREATED:20260309T135635Z
LAST-MODIFIED:20260309T135635Z
UID:1091-1777104000-1777136400@prairiepalmetto.com
SUMMARY:Oklahoma SDA/Conceal Carry/SDA Handgun Permit Education
DESCRIPTION:This course satisfies the OSBI education requirement to apply for your Oklahoma SDA Handgun Permit. Providing a review of the legal framework guiding lawful carry\, basic safety\, and shooting fundamentals. This class does NOT instruct an individual on how to shoot. Each participant should be familiar with and capable of operating their firearm. \n\nCash is always welcome. Credit and debit cards accepted for balance plus 3.5%. Payable immediately before course begins.\nFirearm: Students encouraged to bring their own firearm. The firearm may be a semi-automatic or revolver\, .45 caliber or less\, with .22LR suggested. Pistols (22LR) with ammunition will be available for rent.\nAmmunition: Students should bring 200 rounds of factory ammunition\, or at least 100 rounds. Reloads\, commercial or home-made\, are not permitted.\nEye and hearing protection: Students should bring eye and hearing protection\, with electronic hearing protection recommended.\nClothing: Students should wear appropriate range attire\, which does not include open-toed shoes or low-cut clothing.\nOther items: Students should bring pencil and note pad.\nInstructor will provide snacks and water\, but not a meal. Restaurants are available nearby.\n\nTo successfully complete course: \n\nAttend entire course. Participation encouraged.\nScore 70% on the course test\nPass the live-fire qualification\nNo refunds are provided\n\nPlease call\, email\, or visit our website at www.prairiepalmetto.com\, for questions
URL:https://prairiepalmetto.com/event/oklahoma-sda-conceal-carry-sda-handgun-permit-education/
LOCATION:Prairie Palmetto Precision Off-site // Church of the Nazarene\, 1118 W Broadway St\, Collinsville\, OK\, 74021\, United States
CATEGORIES:Firearms Training,SDA Courses
ORGANIZER;CN="Prairie Palmetto Precision":MAILTO:rob@prairiepalmetto.com
END:VEVENT
END:VCALENDAR