BEGIN:VCALENDAR
VERSION:2.0
PRODID:-//Prairie Palmetto Precision - ECPv6.15.20//NONSGML v1.0//EN
CALSCALE:GREGORIAN
METHOD:PUBLISH
X-WR-CALNAME:Prairie Palmetto Precision
X-ORIGINAL-URL:https://prairiepalmetto.com
X-WR-CALDESC:Events for Prairie Palmetto Precision
REFRESH-INTERVAL;VALUE=DURATION:PT1H
X-Robots-Tag:noindex
X-PUBLISHED-TTL:PT1H
BEGIN:VTIMEZONE
TZID:America/Chicago
BEGIN:DAYLIGHT
TZOFFSETFROM:-0600
TZOFFSETTO:-0500
TZNAME:CDT
DTSTART:20240310T080000
END:DAYLIGHT
BEGIN:STANDARD
TZOFFSETFROM:-0500
TZOFFSETTO:-0600
TZNAME:CST
DTSTART:20241103T070000
END:STANDARD
BEGIN:DAYLIGHT
TZOFFSETFROM:-0600
TZOFFSETTO:-0500
TZNAME:CDT
DTSTART:20250309T080000
END:DAYLIGHT
BEGIN:STANDARD
TZOFFSETFROM:-0500
TZOFFSETTO:-0600
TZNAME:CST
DTSTART:20251102T070000
END:STANDARD
BEGIN:DAYLIGHT
TZOFFSETFROM:-0600
TZOFFSETTO:-0500
TZNAME:CDT
DTSTART:20260308T080000
END:DAYLIGHT
BEGIN:STANDARD
TZOFFSETFROM:-0500
TZOFFSETTO:-0600
TZNAME:CST
DTSTART:20261101T070000
END:STANDARD
END:VTIMEZONE
BEGIN:VEVENT
DTSTART;TZID=America/Chicago:20250726T080000
DTEND;TZID=America/Chicago:20250726T170000
DTSTAMP:20260423T185631
CREATED:20250622T234746Z
LAST-MODIFIED:20250716T184347Z
UID:870-1753516800-1753549200@prairiepalmetto.com
SUMMARY:WOMEN ONLY - NRA Basics of Pistol Shooting - Instructor Led Only
DESCRIPTION:This course is NRA certified and is intended for all individuals regardless of previous shooting experience or NRA-affiliation. This is an instructor-led course where you will receive direct instruction from an NRA-certified instructor from beginning to end.  \nRegister at the event website link below \n\nCash is always welcome. Credit and debit cards accepted for balance plus 3.5%. Payable immediately before course begins.\nFirearm: Students may bring their own firearm. The firearm may be a semi-automatic or revolver\, .45 caliber or less\, with .22LR suggested. Pistols (22LR) with ammunition will be available for rent.\nAmmunition: Students should bring 200 rounds of factory ammunition\, or at least 100 rounds. Reloads\, commercial or home-made\, are not permitted.\nEye and hearing protection: Students should bring eye and hearing protection\, with electronic hearing protection recommended.\nClothing: Students should wear appropriate range attire\, which does not include open-toed shoes or low-cut clothing.\nOther items: Students should bring pencil and note pad.\nInstructor will provide snacks and water\, but not a meal. Restaurants are available nearby.\n\nTo successfully complete course: \n\nAttend entire course. Participation encouraged.\nScore 90% on the course test\nPass the live-fire qualification\nNo refunds are provided\n\nPlease call\, email\, or visit our website at www.prairiepalmetto.com\, for questions
URL:https://prairiepalmetto.com/event/nra-basics-of-pistol-shooting-instructor-led-only-6/
LOCATION:Prairie Palmetto Precision Off-Site / Bit by Bit\, 14674 US-169\, Oologah\, OK\, 74053\, United States
CATEGORIES:Firearms Training,NRA Courses
ORGANIZER;CN="Prairie Palmetto Precision":MAILTO:rob@prairiepalmetto.com
END:VEVENT
BEGIN:VEVENT
DTSTART;TZID=America/Chicago:20250621T080000
DTEND;TZID=America/Chicago:20250621T170000
DTSTAMP:20260423T185631
CREATED:20250522T152149Z
LAST-MODIFIED:20250522T205207Z
UID:860-1750492800-1750525200@prairiepalmetto.com
SUMMARY:NRA Basics of Pistol Shooting - Instructor Led Only
DESCRIPTION:This course is NRA certified and is intended for all individuals regardless of previous shooting experience or NRA-affiliation. This is an instructor-led course where you will receive direct instruction from an NRA-certified instructor from beginning to end.  \nRegister at the event website link below \n\nCash is always welcome. Credit and debit cards accepted for balance plus 3.5%. Payable immediately before course begins.\nFirearm: Students may bring their own firearm. The firearm may be a semi-automatic or revolver\, .45 caliber or less\, with .22LR suggested. Pistols (22LR) with ammunition will be available for rent.\nAmmunition: Students should bring 200 rounds of factory ammunition\, or at least 100 rounds. Reloads\, commercial or home-made\, are not permitted.\nEye and hearing protection: Students should bring eye and hearing protection\, with electronic hearing protection recommended.\nClothing: Students should wear appropriate range attire\, which does not include open-toed shoes or low-cut clothing.\nOther items: Students should bring pencil and note pad.\nInstructor will provide snacks and water\, but not a meal. Restaurants are available nearby.\n\nTo successfully complete course: \n\nAttend entire course. Participation encouraged.\nScore 90% on the course test\nPass the live-fire qualification\nNo refunds are provided
URL:https://prairiepalmetto.com/event/nra-basics-of-pistol-shooting-instructor-led-only-5/
LOCATION:Prairie Palmetto Precision Off-Site / Bit by Bit\, 14674 US-169\, Oologah\, OK\, 74053\, United States
CATEGORIES:Firearms Training,NRA Courses
ORGANIZER;CN="Prairie Palmetto Precision":MAILTO:rob@prairiepalmetto.com
END:VEVENT
BEGIN:VEVENT
DTSTART;TZID=America/Chicago:20250517T080000
DTEND;TZID=America/Chicago:20250517T170000
DTSTAMP:20260423T185631
CREATED:20250408T130818Z
LAST-MODIFIED:20250426T145709Z
UID:814-1747468800-1747501200@prairiepalmetto.com
SUMMARY:NRA Basics of Pistol Shooting - Instructor Led Only (Weekend Class)
DESCRIPTION:This course is NRA certified and is intended for all individuals regardless of previous shooting experience or NRA-affiliation. This is an instructor-led course where you will receive direct instruction from an NRA-certified instructor from beginning to end.  \nRegister at the event website link below \n\nCash is always welcome. Credit and debit cards accepted for balance plus 3.5%. Payable immediately before course begins.\nFirearm: Students may bring their own firearm. The firearm may be a semi-automatic or revolver\, .45 caliber or less\, with .22LR suggested. Pistols (22LR) with ammunition will be available for rent.\nAmmunition: Students should bring 200 rounds of factory ammunition\, or at least 100 rounds. Reloads\, commercial or home-made\, are not permitted.\nEye and hearing protection: Students should bring eye and hearing protection\, with electronic hearing protection recommended.\nClothing: Students should wear appropriate range attire\, which does not include open-toed shoes or low-cut clothing.\nOther items: Students should bring pencil and note pad.\nInstructor will provide snacks and water\, but not a meal. Restaurants are available nearby.\n\nTo successfully complete course: \n\nAttend entire course. Participation encouraged.\nScore 90% on the course test\nPass the live-fire qualification\nNo refunds are provided\n\nPlease call\, email\, or visit our website at www.prairiepalmetto.com\, for questions \n  \n 
URL:https://prairiepalmetto.com/event/nra-basics-of-pistol-shooting-2/
LOCATION:Prairie Palmetto Precision Off-Site Classroom\, Collinsville\, OK\, 74021\, United States
CATEGORIES:Firearms Training,NRA Courses
ORGANIZER;CN="Prairie Palmetto Precision":MAILTO:rob@prairiepalmetto.com
END:VEVENT
BEGIN:VEVENT
DTSTART;TZID=America/Chicago:20250506T080000
DTEND;TZID=America/Chicago:20250506T170000
DTSTAMP:20260423T185631
CREATED:20250408T130634Z
LAST-MODIFIED:20250426T145741Z
UID:812-1746518400-1746550800@prairiepalmetto.com
SUMMARY:NRA Basics of Pistol Shooting - Instructor Led Only (Weekday Class)
DESCRIPTION:This course is NRA certified and is intended for all individuals regardless of previous shooting experience or NRA-affiliation. This is an instructor-led course where you will receive direct instruction from an NRA-certified instructor from beginning to end.  \nRegister at the event website link below \n\nCash is always welcome. Credit and debit cards accepted for balance plus 3.5%. Payable immediately before course begins.\nFirearm: Students may bring their own firearm. The firearm may be a semi-automatic or revolver\, .45 caliber or less\, with .22LR suggested. Pistols (22LR) with ammunition will be available for rent.\nAmmunition: Students should bring 200 rounds of factory ammunition\, or at least 100 rounds. Reloads\, commercial or home-made\, are not permitted.\nEye and hearing protection: Students should bring eye and hearing protection\, with electronic hearing protection recommended.\nClothing: Students should wear appropriate range attire\, which does not include open-toed shoes or low-cut clothing.\nOther items: Students should bring pencil and note pad.\nInstructor will provide snacks and water\, but not a meal. Restaurants are available nearby.\n\nTo successfully complete course: \n\nAttend entire course. Participation encouraged.\nScore 90% on the course test\nPass the live-fire qualification\nNo refunds are provided\n\nPlease call\, email\, or visit our website at www.prairiepalmetto.com\, for questions \n  \n 
URL:https://prairiepalmetto.com/event/nra-basics-of-pistol-shooting/
LOCATION:Prairie Palmetto Precision Off-Site Classroom\, Collinsville\, OK\, 74021\, United States
CATEGORIES:Firearms Training,NRA Courses
ORGANIZER;CN="Prairie Palmetto Precision":MAILTO:rob@prairiepalmetto.com
END:VEVENT
BEGIN:VEVENT
DTSTART;TZID=America/Chicago:20250503T080000
DTEND;TZID=America/Chicago:20250503T170000
DTSTAMP:20260423T185631
CREATED:20250408T130350Z
LAST-MODIFIED:20250426T145923Z
UID:810-1746259200-1746291600@prairiepalmetto.com
SUMMARY:NRA Basic Range Safety Officer (RSO) Certification Course
DESCRIPTION:Student comment: “This is safety viewed as an RSO. I didn’t realize how much more there is to consider\, even as a 20 year [shooter]. \n  \nThis course is NRA certified to develop NRA Certified Range Safety Officers who possess the knowledge\, skills\, and attitude essential to organizing\, conducting\, and supervising safe shooting activities and range operations. \nRegister at the event website link below \n\nCash is always welcome. Credit and debit cards accepted for balance plus 3.5%. Payable immediately before course begins.\nOther items: Students should bring pencil and note pad.\nInstructor will provide snacks and water\, but not a meal. Restaurants are available nearby.\nThis is NOT a live-fire course. No firearm is required.\n\nAn outstanding course to advance your recreation time\, be positioned to support shooting events\, and further your qualifications if you are armed security… \n  \n 
URL:https://prairiepalmetto.com/event/nra-basic-range-safety-officer-rso-course-5/
LOCATION:Prairie Palmetto Precision Off-Site Classroom\, Collinsville\, OK\, 74021\, United States
CATEGORIES:Firearms Safety Training,NRA Courses,Range Safety Officer (RSO)
ORGANIZER;CN="Prairie Palmetto Precision":MAILTO:rob@prairiepalmetto.com
END:VEVENT
BEGIN:VEVENT
DTSTART;TZID=America/Chicago:20250419T080000
DTEND;TZID=America/Chicago:20250419T170000
DTSTAMP:20260423T185631
CREATED:20250307T140551Z
LAST-MODIFIED:20250326T191039Z
UID:799-1745049600-1745082000@prairiepalmetto.com
SUMMARY:NRA Basics of Pistol Shooting - Instructor Led Only
DESCRIPTION:This course is NRA certified and is intended for all individuals regardless of previous shooting experience or NRA-affiliation. This is an instructor-led course where you will receive direct instruction from an NRA-certified instructor from beginning to end.  \nRegister at the event website link below \n\nCash is always welcome. Credit and debit cards accepted for balance plus 3.5%. Payable immediately before course begins.\nFirearm: Students may bring their own firearm. The firearm may be a semi-automatic or revolver\, .45 caliber or less\, with .22LR suggested. Pistols (22LR) with ammunition will be available for rent.\nAmmunition: Students should bring 200 rounds of factory ammunition\, or at least 100 rounds. Reloads\, commercial or home-made\, are not permitted.\nEye and hearing protection: Students should bring eye and hearing protection\, with electronic hearing protection recommended.\nClothing: Students should wear appropriate range attire\, which does not include open-toed shoes or low-cut clothing.\nOther items: Students should bring pencil and note pad.\nInstructor will provide snacks and water\, but not a meal. Restaurants are available nearby.\n\nTo successfully complete course: \n\nAttend entire course. Participation encouraged.\nScore 90% on the course test\nPass the live-fire qualification\nNo refunds are provided\n\nPlease call\, email\, or visit our website at www.prairiepalmetto.com\, for questions
URL:https://prairiepalmetto.com/event/nra-basics-of-pistol-shooting-instructor-led-only-3/
LOCATION:Prairie Palmetto Precision Off-Site Classroom\, Collinsville\, OK\, 74021\, United States
CATEGORIES:Firearms Training,NRA Courses
ORGANIZER;CN="Prairie Palmetto Precision":MAILTO:rob@prairiepalmetto.com
END:VEVENT
BEGIN:VEVENT
DTSTART;TZID=America/Chicago:20250329T080000
DTEND;TZID=America/Chicago:20250329T170000
DTSTAMP:20260423T185631
CREATED:20250226T220522Z
LAST-MODIFIED:20250311T133836Z
UID:790-1743235200-1743267600@prairiepalmetto.com
SUMMARY:NRA Basics of Pistol Shooting - Instructor Led Only
DESCRIPTION:This course is NRA certified and is intended for all individuals regardless of previous shooting experience or NRA-affiliation. This is an instructor-led course where you will receive direct instruction from an NRA-certified instructor from beginning to end.  \nRegister at the event website link below \n\nCash is always welcome. Credit and debit cards accepted for balance plus 3.5%. Payable immediately before course begins.\nFirearm: Students may bring their own firearm. The firearm may be a semi-automatic or revolver\, .45 caliber or less\, with .22LR suggested. Pistols (22LR) with ammunition will be available for rent.\nAmmunition: Students should bring 200 rounds of factory ammunition\, or at least 100 rounds. Reloads\, commercial or home-made\, are not permitted.\nEye and hearing protection: Students should bring eye and hearing protection\, with electronic hearing protection recommended.\nClothing: Students should wear appropriate range attire\, which does not include open-toed shoes or low-cut clothing.\nOther items: Students should bring pencil and note pad.\nInstructor will provide snacks and water\, but not a meal. Restaurants are available nearby.\n\nTo successfully complete course: \n\nAttend entire course. Participation encouraged.\nScore 90% on the course test\nPass the live-fire qualification\nNo refunds are provided\n\nPlease call\, email\, or visit our website at www.prairiepalmetto.com\, for questions
URL:https://prairiepalmetto.com/event/nra-basics-of-pistol-shooting-instructor-led-only-4/
LOCATION:Prairie Palmetto Precision Off-Site Classroom\, Collinsville\, OK\, 74021\, United States
CATEGORIES:Firearms Training,NRA Courses
ORGANIZER;CN="Prairie Palmetto Precision":MAILTO:rob@prairiepalmetto.com
END:VEVENT
BEGIN:VEVENT
DTSTART;TZID=America/Chicago:20250226T080000
DTEND;TZID=America/Chicago:20250226T170000
DTSTAMP:20260423T185631
CREATED:20250108T155949Z
LAST-MODIFIED:20250219T144646Z
UID:698-1740556800-1740589200@prairiepalmetto.com
SUMMARY:NRA Basics of Pistol Shooting – Instructor Led Only
DESCRIPTION:This course is NRA certified and is intended for all individuals regardless of previous shooting experience or NRA-affiliation. This is an instructor-led course where you will receive direct instruction from an NRA-certified instructor from beginning to end.  \nRegister at the event website link below \n\nCash is always welcome. Credit and debit cards accepted for balance plus 3.5%. Payable immediately before course begins.\nFirearm: Students may bring their own firearm. The firearm may be a semi-automatic or revolver\, .45 caliber or less\, with .22LR suggested. Pistols (22LR) with ammunition will be available for rent.\nAmmunition: Students should bring 200 rounds of factory ammunition\, or at least 100 rounds. Reloads\, commercial or home-made\, are not permitted.\nEye and hearing protection: Students should bring eye and hearing protection\, with electronic hearing protection recommended.\nClothing: Students should wear appropriate range attire\, which does not include open-toed shoes or low-cut clothing.\nOther items: Students should bring pencil and note pad.\nInstructor will provide snacks and water\, but not a meal. Restaurants are available nearby.\n\nTo successfully complete course: \n\nAttend entire course. Participation encouraged.\nScore 90% on the course test\nPass the live-fire qualification\nNo refunds are provided\n\nPlease call\, email\, or visit our website at www.prairiepalmetto.com\, for questions
URL:https://prairiepalmetto.com/event/nra-basics-of-pistol-shooting-instructor-led-only-two-consecutive-evenings-course-2/
LOCATION:Prairie Palmetto Precision LLC Offices\, 2886 Crosscreek Dr\, Oologah\, OK\, 74053\, United States
CATEGORIES:Firearms Training,NRA Courses
ORGANIZER;CN="Prairie Palmetto Precision":MAILTO:rob@prairiepalmetto.com
END:VEVENT
BEGIN:VEVENT
DTSTART;TZID=America/Chicago:20250128T080000
DTEND;TZID=America/Chicago:20250128T170000
DTSTAMP:20260423T185631
CREATED:20250102T205914Z
LAST-MODIFIED:20250208T222401Z
UID:490-1738051200-1738083600@prairiepalmetto.com
SUMMARY:NRA Basics of Pistol Shooting - Instructor Led Only - Single Day Course
DESCRIPTION:This course is NRA certified and is intended for all individuals regardless of previous shooting experience or NRA-affiliation. This is an instructor-led course where you will receive direct instruction from an NRA-certified instructor from beginning to end.  \nRegister at the event website link below \n\nCash is always welcome. Credit and debit cards accepted for balance plus 3.5%. Payable immediately before course begins.\nFirearm: Students may bring their own firearm. The firearm may be a semi-automatic or revolver\, .45 caliber or less\, with .22LR suggested. Pistols (22LR) with ammunition will be available for rent.\nAmmunition: Students should bring 200 rounds of factory ammunition\, or at least 100 rounds. Reloads\, commercial or home-made\, are not permitted.\nEye and hearing protection: Students should bring eye and hearing protection\, with electronic hearing protection recommended.\nClothing: Students should wear appropriate range attire\, which does not include open-toed shoes or low-cut clothing.\nOther items: Students should bring pencil and note pad.\nInstructor will provide snacks and water\, but not a meal. Restaurants are available nearby.\n\nTo successfully complete course: \n\nAttend entire course. Participation encouraged.\nScore 90% on the course test\nPass the live-fire qualification\nNo refunds are provided\n\nPlease call\, email\, or visit our website at www.prairiepalmetto.com\, for questions
URL:https://prairiepalmetto.com/event/nra-basics-of-pisto-shooting-instructor-led-only-two-consecutive-evenings-course-2/
LOCATION:Tulsa Red Castle Gun Club – Indoor Range/Training Facility\, 1115 S Zunis Ave\, Tulsa\, Oklahoma\, 74104\, United States
CATEGORIES:Firearms Training,NRA Courses
ORGANIZER;CN="Prairie Palmetto Precision":MAILTO:rob@prairiepalmetto.com
END:VEVENT
BEGIN:VEVENT
DTSTART;TZID=America/Chicago:20250118T090000
DTEND;TZID=America/Chicago:20250118T200000
DTSTAMP:20260423T185631
CREATED:20250102T212403Z
LAST-MODIFIED:20250208T222402Z
UID:500-1737190800-1737230400@prairiepalmetto.com
SUMMARY:NRA Certified Pistol Instructor - SPECIAL SESSION
DESCRIPTION:This course is NRA certified and is intended for all individuals seeking to gain Pistol Instructor certification.\n\nPRE-REQUISITE: COMPLETED THE NRA BASICS OF PISTOL SHOOTING COURSE (available Jan 11)\n\nTHIS IS A SINGLE\, ALL-DAY COURSE INSTRUCTED BY MARK HEINS/NRA TRAINING COUNSELOR\, WITH BEN ABBOTT/ASSISTANT\n\nRegistration at the event website link below\n\n\nCASH OR CHECK ONLY. No electronic transfer or credit card. The possession of any medical marijuana card renders you ineligible for this course per 18 USC 922 g 3. BIT is included in this class. Student should understand the shooting qualification for this class.\nFirearm: Students should bring their own firearm. The firearm may be a semi-automatic or revolver\, .45 caliber or less.\nAmmunition: Students should bring 200 rounds of factory ammunition. Reloads\, commercial or home-made\, are not permitted.\nEye and hearing protection: Students should bring eye and hearing protection\, with electronic hearing protection recommended.\nClothing: Students should wear appropriate range attire\, which does not include open-toed shoes or low-cut clothing.\nInstructor will provide snacks and water\, but not a meal. Restaurants are available nearby.\n\nPlease call\, email\, or visit our website at www.prairiepalmetto.com\, for questions as we are sponsoring Mark for this fantastic opportunity to train…
URL:https://prairiepalmetto.com/event/nra-certified-pistol-instructor-special-session/
LOCATION:Tulsa Red Castle Gun Club – Indoor Range/Training Facility\, 1115 S Zunis Ave\, Tulsa\, Oklahoma\, 74104\, United States
CATEGORIES:Firearms Training,NRA Courses
ORGANIZER;CN="Prairie Palmetto Precision":MAILTO:rob@prairiepalmetto.com
END:VEVENT
BEGIN:VEVENT
DTSTART;TZID=America/Chicago:20250114T180000
DTEND;TZID=America/Chicago:20250115T220000
DTSTAMP:20260423T185631
CREATED:20250102T205735Z
LAST-MODIFIED:20250208T222404Z
UID:488-1736877600-1736978400@prairiepalmetto.com
SUMMARY:NRA Basics of Pistol Shooting - Instructor Led Only - Two Consecutive Evenings Course
DESCRIPTION:This course is NRA certified and is intended for all individuals regardless of previous shooting experience or NRA-affiliation. This is an instructor-led course where you will receive direct instruction from an NRA-certified instructor from beginning to end.  \nTHIS COURSE TAKES PLACE ON TWO CONSECUTIVE EVENINGS\, Jan 14 (6pm-10pm) and Jan 15 (6pm-10pm) \nRegister at the event website link below \n\nCash is always welcome. Credit and debit cards accepted for balance plus 3.5%. Payable immediately before course begins.\nFirearm: Students may bring their own firearm. The firearm may be a semi-automatic or revolver\, .45 caliber or less\, with .22LR suggested. Pistols (22LR) with ammunition will be available for rent.\nAmmunition: Students should bring 200 rounds of factory ammunition\, or at least 100 rounds. Reloads\, commercial or home-made\, are not permitted.\nEye and hearing protection: Students should bring eye and hearing protection\, with electronic hearing protection recommended.\nClothing: Students should wear appropriate range attire\, which does not include open-toed shoes or low-cut clothing.\nOther items: Students should bring pencil and note pad.\nInstructor will provide snacks and water\, but not a meal. Restaurants are available nearby.\n\nTo successfully complete course: \n\nAttend entire course. Participation encouraged.\nScore 90% on the course test\nPass the live-fire qualification\nNo refunds are provided\n\nPlease call\, email\, or visit our website at www.prairiepalmetto.com\, for questions
URL:https://prairiepalmetto.com/event/nra-basics-of-pisto-shooting-instructor-led-only-two-consecutive-evenings-course/
LOCATION:Tulsa Red Castle Gun Club – Indoor Range/Training Facility\, 1115 S Zunis Ave\, Tulsa\, Oklahoma\, 74104\, United States
CATEGORIES:Firearms Training,NRA Courses
ORGANIZER;CN="Prairie Palmetto Precision":MAILTO:rob@prairiepalmetto.com
END:VEVENT
BEGIN:VEVENT
DTSTART;TZID=America/Chicago:20250111T080000
DTEND;TZID=America/Chicago:20250111T170000
DTSTAMP:20260423T185631
CREATED:20250102T205301Z
LAST-MODIFIED:20250208T222405Z
UID:484-1736582400-1736614800@prairiepalmetto.com
SUMMARY:NRA Basics of Pistol Shooting - Instructor Led Only - Single Day Course
DESCRIPTION:This course is NRA certified and is intended for all individuals regardless of previous shooting experience or NRA-affiliation. This is an instructor-led course where you will receive direct instruction from an NRA-certified instructor from beginning to end.  \nRegister at the event website link below \n\nCash is always welcome. Credit and debit cards accepted for balance plus 3.5%. Payable immediately before course begins.\nFirearm: Students may bring their own firearm. The firearm may be a semi-automatic or revolver\, .45 caliber or less\, with .22LR suggested. Pistols (22LR) with ammunition will be available for rent.\nAmmunition: Students should bring 200 rounds of factory ammunition\, or at least 100 rounds. Reloads\, commercial or home-made\, are not permitted.\nEye and hearing protection: Students should bring eye and hearing protection\, with electronic hearing protection recommended.\nClothing: Students should wear appropriate range attire\, which does not include open-toed shoes or low-cut clothing.\nOther items: Students should bring pencil and note pad.\nInstructor will provide snacks and water\, but not a meal. Restaurants are available nearby.\n\nTo successfully complete course: \n\nAttend entire course. Participation encouraged.\nScore 90% on the course test\nPass the live-fire qualification\nNo refunds are provided\n\nPlease call\, email\, or visit our website at www.prairiepalmetto.com\, for questions \n 
URL:https://prairiepalmetto.com/event/nra-basics-of-pistol-shooting-instructor-led-only-single-day-course/
LOCATION:Tulsa Red Castle Gun Club – Indoor Range/Training Facility\, 1115 S Zunis Ave\, Tulsa\, Oklahoma\, 74104\, United States
CATEGORIES:Firearms Training,NRA Courses
ORGANIZER;CN="Prairie Palmetto Precision":MAILTO:rob@prairiepalmetto.com
END:VEVENT
END:VCALENDAR