BEGIN:VCALENDAR
VERSION:2.0
PRODID:-//Prairie Palmetto Precision - ECPv6.15.20//NONSGML v1.0//EN
CALSCALE:GREGORIAN
METHOD:PUBLISH
X-WR-CALNAME:Prairie Palmetto Precision
X-ORIGINAL-URL:https://prairiepalmetto.com
X-WR-CALDESC:Events for Prairie Palmetto Precision
REFRESH-INTERVAL;VALUE=DURATION:PT1H
X-Robots-Tag:noindex
X-PUBLISHED-TTL:PT1H
BEGIN:VTIMEZONE
TZID:America/Chicago
BEGIN:DAYLIGHT
TZOFFSETFROM:-0600
TZOFFSETTO:-0500
TZNAME:CDT
DTSTART:20240310T080000
END:DAYLIGHT
BEGIN:STANDARD
TZOFFSETFROM:-0500
TZOFFSETTO:-0600
TZNAME:CST
DTSTART:20241103T070000
END:STANDARD
BEGIN:DAYLIGHT
TZOFFSETFROM:-0600
TZOFFSETTO:-0500
TZNAME:CDT
DTSTART:20250309T080000
END:DAYLIGHT
BEGIN:STANDARD
TZOFFSETFROM:-0500
TZOFFSETTO:-0600
TZNAME:CST
DTSTART:20251102T070000
END:STANDARD
BEGIN:DAYLIGHT
TZOFFSETFROM:-0600
TZOFFSETTO:-0500
TZNAME:CDT
DTSTART:20260308T080000
END:DAYLIGHT
BEGIN:STANDARD
TZOFFSETFROM:-0500
TZOFFSETTO:-0600
TZNAME:CST
DTSTART:20261101T070000
END:STANDARD
END:VTIMEZONE
BEGIN:VEVENT
DTSTART;TZID=America/Chicago:20250802T080000
DTEND;TZID=America/Chicago:20250802T170000
DTSTAMP:20260424T033505
CREATED:20250724T142222Z
LAST-MODIFIED:20250724T142222Z
UID:909-1754121600-1754154000@prairiepalmetto.com
SUMMARY:Oklahoma SDA Handgun Permit Education
DESCRIPTION:Email rob@prairiepalmetto.com \n\nSubject: OK SDA August 02 (or something similar)\nBody / Email Content\n\nFull name (as it appears on your driver’s license)\nAddress\nPhone number\n\n\n\nWe will reach out within 24 hours (typically sooner) to verify your registration \n\nCash is always welcome. Credit and debit cards accepted for balance plus 3.5%. Payable immediately before course begins.\nFirearm: Students encouraged to bring their own firearm. The firearm may be a semi-automatic or revolver\, .45 caliber or less\, with .22LR suggested. Pistols (22LR) with ammunition will be available for rent.\nAmmunition: Students should bring 200 rounds of factory ammunition\, or at least 100 rounds. Reloads\, commercial or home-made\, are not permitted.\nEye and hearing protection: Students should bring eye and hearing protection\, with electronic hearing protection recommended.\nClothing: Students should wear appropriate range attire\, which does not include open-toed shoes or low-cut clothing.\nOther items: Students should bring pencil and note pad.\nInstructor will provide snacks and water\, but not a meal. Restaurants are available nearby.\n\nTo successfully complete course: \n\nAttend entire course. Participation encouraged.\nScore 70% on the course test\nPass the live-fire qualification\nNo refunds are provided\n\nPlease call\, email\, or visit our website at www.prairiepalmetto.com\, for questions
URL:https://prairiepalmetto.com/event/oklahoma-sda-handgun-permit-education-7/
LOCATION:Prairie Palmetto Precision Off-site // Church of the Nazarene\, 1118 W Broadway St\, Collinsville\, OK\, 74021\, United States
CATEGORIES:Firearms Training,SDA Courses
ORGANIZER;CN="Prairie Palmetto Precision":MAILTO:rob@prairiepalmetto.com
END:VEVENT
BEGIN:VEVENT
DTSTART;TZID=America/Chicago:20250816T080000
DTEND;TZID=America/Chicago:20250816T170000
DTSTAMP:20260424T033505
CREATED:20250724T142638Z
LAST-MODIFIED:20250724T142712Z
UID:913-1755331200-1755363600@prairiepalmetto.com
SUMMARY:NRA Basics of Pistol Shooting Instructor Led Only
DESCRIPTION:This course is NRA certified and is intended for all individuals regardless of previous shooting experience or NRA-affiliation. This is an instructor-led course where you will receive direct instruction from an NRA-certified instructor from beginning to end.  \nRegister at the event website link below \n\nCash is always welcome. Credit and debit cards accepted for balance plus 3.5%. Payable immediately before course begins.\nFirearm: Students may bring their own firearm. The firearm may be a semi-automatic or revolver\, .45 caliber or less\, with .22LR suggested. Pistols (22LR) with ammunition will be available for rent.\nAmmunition: Students should bring 200 rounds of factory ammunition\, or at least 100 rounds. Reloads\, commercial or home-made\, are not permitted.\nEye and hearing protection: Students should bring eye and hearing protection\, with electronic hearing protection recommended.\nClothing: Students should wear appropriate range attire\, which does not include open-toed shoes or low-cut clothing.\nOther items: Students should bring pencil and note pad.\nInstructor will provide snacks and water\, but not a meal. Restaurants are available nearby.\n\nTo successfully complete course: \n\nAttend entire course. Participation encouraged.\nScore 90% on the course test\nPass the live-fire qualification\nNo refunds are provided\n\nPlease call\, email\, or visit our website at www.prairiepalmetto.com\, for questions
URL:https://prairiepalmetto.com/event/nra-basics-of-pistol-shooting-3/
LOCATION:Prairie Palmetto Precision Off-site // Church of the Nazarene\, 1118 W Broadway St\, Collinsville\, OK\, 74021\, United States
CATEGORIES:Firearms Training,NRA Courses
ORGANIZER;CN="Prairie Palmetto Precision":MAILTO:rob@prairiepalmetto.com
END:VEVENT
BEGIN:VEVENT
DTSTART;TZID=America/Chicago:20250823T080000
DTEND;TZID=America/Chicago:20250823T170000
DTSTAMP:20260424T033505
CREATED:20250811T214455Z
LAST-MODIFIED:20250811T214455Z
UID:917-1755936000-1755968400@prairiepalmetto.com
SUMMARY:Oklahoma SDA Handgun Permit Education
DESCRIPTION:Email rob@prairiepalmetto.com \n\nSubject: OK SDA August 02 (or something similar)\nBody / Email Content\n\nFull name (as it appears on your driver’s license)\nAddress\nPhone number\n\n\n\nWe will reach out within 24 hours (typically sooner) to verify your registration \n\nCash is always welcome. Credit and debit cards accepted for balance plus 3.5%. Payable immediately before course begins.\nFirearm: Students encouraged to bring their own firearm. The firearm may be a semi-automatic or revolver\, .45 caliber or less\, with .22LR suggested. Pistols (22LR) with ammunition will be available for rent.\nAmmunition: Students should bring 200 rounds of factory ammunition\, or at least 100 rounds. Reloads\, commercial or home-made\, are not permitted.\nEye and hearing protection: Students should bring eye and hearing protection\, with electronic hearing protection recommended.\nClothing: Students should wear appropriate range attire\, which does not include open-toed shoes or low-cut clothing.\nOther items: Students should bring pencil and note pad.\nInstructor will provide snacks and water\, but not a meal. Restaurants are available nearby.\n\nTo successfully complete course: \n\nAttend entire course. Participation encouraged.\nScore 70% on the course test\nPass the live-fire qualification\nNo refunds are provided\n\nPlease call\, email\, or visit our website at www.prairiepalmetto.com\, for questions
URL:https://prairiepalmetto.com/event/oklahoma-sda-handgun-permit-education-8/
LOCATION:Prairie Palmetto Precision Off-site // Church of the Nazarene\, 1118 W Broadway St\, Collinsville\, OK\, 74021\, United States
CATEGORIES:Firearms Training,SDA Courses
ORGANIZER;CN="Prairie Palmetto Precision":MAILTO:rob@prairiepalmetto.com
END:VEVENT
END:VCALENDAR