BEGIN:VCALENDAR
VERSION:2.0
PRODID:-//Prairie Palmetto Precision - ECPv6.15.20//NONSGML v1.0//EN
CALSCALE:GREGORIAN
METHOD:PUBLISH
X-WR-CALNAME:Prairie Palmetto Precision
X-ORIGINAL-URL:https://prairiepalmetto.com
X-WR-CALDESC:Events for Prairie Palmetto Precision
REFRESH-INTERVAL;VALUE=DURATION:PT1H
X-Robots-Tag:noindex
X-PUBLISHED-TTL:PT1H
BEGIN:VTIMEZONE
TZID:America/Chicago
BEGIN:DAYLIGHT
TZOFFSETFROM:-0600
TZOFFSETTO:-0500
TZNAME:CDT
DTSTART:20250309T080000
END:DAYLIGHT
BEGIN:STANDARD
TZOFFSETFROM:-0500
TZOFFSETTO:-0600
TZNAME:CST
DTSTART:20251102T070000
END:STANDARD
BEGIN:DAYLIGHT
TZOFFSETFROM:-0600
TZOFFSETTO:-0500
TZNAME:CDT
DTSTART:20260308T080000
END:DAYLIGHT
BEGIN:STANDARD
TZOFFSETFROM:-0500
TZOFFSETTO:-0600
TZNAME:CST
DTSTART:20261101T070000
END:STANDARD
BEGIN:DAYLIGHT
TZOFFSETFROM:-0600
TZOFFSETTO:-0500
TZNAME:CDT
DTSTART:20270314T080000
END:DAYLIGHT
BEGIN:STANDARD
TZOFFSETFROM:-0500
TZOFFSETTO:-0600
TZNAME:CST
DTSTART:20271107T070000
END:STANDARD
END:VTIMEZONE
BEGIN:VEVENT
DTSTART;TZID=America/Chicago:20260307T080000
DTEND;TZID=America/Chicago:20260307T170000
DTSTAMP:20260423T190005
CREATED:20260226T005936Z
LAST-MODIFIED:20260309T134949Z
UID:1087-1772870400-1772902800@prairiepalmetto.com
SUMMARY:NRA Basic Range Safety Officer Certification
DESCRIPTION:This course is NRA certified to develop NRA Certified Range Safety Officers who possess the knowledge\, skills\, and attitude essential to organizing\, conducting\, and supervising safe shooting activities and range operations. \nAn outstanding course to advance your recreation time\, be positioned to support shooting events\, and further your qualifications if you are armed security… \nTHIS IS NON-SHOOTING COURSE…100 PERCENT CLASSROOM \nRegister at the event website link below \n\nCash is always welcome. Credit and debit cards accepted for balance plus 3.5%. Payable immediately before course begins.\nOther items: Students should bring pencil and note pad.\nInstructor will provide snacks and water\, but not a meal. Restaurants are available nearby.\nThis is NOT a live-fire course. No firearm is required.\n\nCLASS TAUGHT BY NRA CERTIFIED CHIEF RANGE SAFETY OFFICER … THIS IS A NON-SHOOTING COURSE…100 PERCENT CLASSROOM \n\nCash is always welcome. Credit and debit cards accepted for balance plus 3.5%.
URL:https://prairiepalmetto.com/event/nra-basic-range-safety-officer-certification/
LOCATION:Prairie Palmetto Precision Off-site // Church of the Nazarene\, 1118 W Broadway St\, Collinsville\, OK\, 74021\, United States
CATEGORIES:Firearms Safety Training,Range Safety Officer (RSO)
ORGANIZER;CN="Prairie Palmetto Precision":MAILTO:rob@prairiepalmetto.com
END:VEVENT
END:VCALENDAR