BEGIN:VCALENDAR
VERSION:2.0
PRODID:-//Prairie Palmetto Precision - ECPv6.15.20//NONSGML v1.0//EN
CALSCALE:GREGORIAN
METHOD:PUBLISH
X-ORIGINAL-URL:https://prairiepalmetto.com
X-WR-CALDESC:Events for Prairie Palmetto Precision
REFRESH-INTERVAL;VALUE=DURATION:PT1H
X-Robots-Tag:noindex
X-PUBLISHED-TTL:PT1H
BEGIN:VTIMEZONE
TZID:America/Chicago
BEGIN:DAYLIGHT
TZOFFSETFROM:-0600
TZOFFSETTO:-0500
TZNAME:CDT
DTSTART:20240310T080000
END:DAYLIGHT
BEGIN:STANDARD
TZOFFSETFROM:-0500
TZOFFSETTO:-0600
TZNAME:CST
DTSTART:20241103T070000
END:STANDARD
BEGIN:DAYLIGHT
TZOFFSETFROM:-0600
TZOFFSETTO:-0500
TZNAME:CDT
DTSTART:20250309T080000
END:DAYLIGHT
BEGIN:STANDARD
TZOFFSETFROM:-0500
TZOFFSETTO:-0600
TZNAME:CST
DTSTART:20251102T070000
END:STANDARD
BEGIN:DAYLIGHT
TZOFFSETFROM:-0600
TZOFFSETTO:-0500
TZNAME:CDT
DTSTART:20260308T080000
END:DAYLIGHT
BEGIN:STANDARD
TZOFFSETFROM:-0500
TZOFFSETTO:-0600
TZNAME:CST
DTSTART:20261101T070000
END:STANDARD
END:VTIMEZONE
BEGIN:VEVENT
DTSTART;TZID=America/Chicago:20250607T080000
DTEND;TZID=America/Chicago:20250607T170000
DTSTAMP:20260424T063210
CREATED:20250430T215247Z
LAST-MODIFIED:20250430T215247Z
UID:840-1749283200-1749315600@prairiepalmetto.com
SUMMARY:GULFPORT MS - NRA Basic Range Safety Officer Certification Course
DESCRIPTION:OUR MOST POPULAR COURSE! \nBROUGHT TO THE BEAUTIFUL MISSISSIPPI GULF COAST! \n– Non-refundable deposit required via credit/debit card WITH NO SURCHARGE FEE… You will be contacted within 48 hours of registration\n– Remaining balance due at start of class. Cash is welcome. Credit/debit cards receive a $5.75 surcharge plus remaining fee. \n• INDOOR CLASS\n• All course materials to be provided \nTo receive course credit\,\no You must attend the entire course\no You must achieve a 90% or greater on the RSO examination. This is an open book test. You will have the breaks and a period at the end of the class to complete. We will score the test at the end of the course.\no No refunds will be provided \n• NO LIVE AMMUNITION IN THE CLASSROOM OF THE TRAINING FACILITY [NO EXCEPTIONS]\n• NO FIREARM IS REQUIRED OR REQUESTED\, AS THIS IS A NO “LIVE FIRE” COURSE \nPlease reach out should you have any questions or go to our website\, www.prairiepalmetto.com \n \n 
URL:https://prairiepalmetto.com/event/gulfport-ms-nra-basic-range-safety-officer-certification-course/
LOCATION:Prairie Palmetto Prec / Century 21 Gulfport MS\, 2137 E Pass Rd Ste A\, Gulfport\, MS\, 39507\, United States
CATEGORIES:Firearms Safety Training,Range Safety Officer (RSO)
ORGANIZER;CN="Prairie Palmetto Precision":MAILTO:rob@prairiepalmetto.com
END:VEVENT
BEGIN:VEVENT
DTSTART;TZID=America/Chicago:20250614T080000
DTEND;TZID=America/Chicago:20250614T173000
DTSTAMP:20260424T063210
CREATED:20250522T152334Z
LAST-MODIFIED:20250522T205138Z
UID:862-1749888000-1749922200@prairiepalmetto.com
SUMMARY:NRA Basic Range Safety Officer Certification Course
DESCRIPTION:Student comment: “This is safety viewed as an RSO. I didn’t realize how much more there is to consider\, even as a 20 year [shooter]. \n  \nThis course is NRA certified to develop NRA Certified Range Safety Officers who possess the knowledge\, skills\, and attitude essential to organizing\, conducting\, and supervising safe shooting activities and range operations. \n  \nRegister at the event website link below \n\nCash is always welcome. Credit and debit cards accepted for balance plus 3.5%. Payable immediately before course begins.\nOther items: Students should bring pencil and note pad.\nInstructor will provide snacks and water\, but not a meal. Restaurants are available nearby.\nThis is NOT a live-fire course. No firearm is required.\n\nAn outstanding course to advance your recreation time\, be positioned to support shooting events\, and further your qualifications if you are armed security…
URL:https://prairiepalmetto.com/event/nra-basic-range-safety-officer-certification-course/
LOCATION:Prairie Palmetto Precision Off-Site / Bit by Bit\, 14674 US-169\, Oologah\, OK\, 74053\, United States
CATEGORIES:Firearms Safety Training,Range Safety Officer (RSO)
ORGANIZER;CN="Prairie Palmetto Precision":MAILTO:rob@prairiepalmetto.com
END:VEVENT
END:VCALENDAR